BEGIN:VCALENDAR
VERSION:2.0
PRODID:-//rishi - ECPv6.15.20//NONSGML v1.0//EN
CALSCALE:GREGORIAN
METHOD:PUBLISH
X-WR-CALNAME:rishi
X-ORIGINAL-URL:https://rishiprograms.org
X-WR-CALDESC:Events for rishi
REFRESH-INTERVAL;VALUE=DURATION:PT1H
X-Robots-Tag:noindex
X-PUBLISHED-TTL:PT1H
BEGIN:VTIMEZONE
TZID:America/New_York
BEGIN:DAYLIGHT
TZOFFSETFROM:-0500
TZOFFSETTO:-0400
TZNAME:EDT
DTSTART:20250309T070000
END:DAYLIGHT
BEGIN:STANDARD
TZOFFSETFROM:-0400
TZOFFSETTO:-0500
TZNAME:EST
DTSTART:20251102T060000
END:STANDARD
BEGIN:DAYLIGHT
TZOFFSETFROM:-0500
TZOFFSETTO:-0400
TZNAME:EDT
DTSTART:20260308T070000
END:DAYLIGHT
BEGIN:STANDARD
TZOFFSETFROM:-0400
TZOFFSETTO:-0500
TZNAME:EST
DTSTART:20261101T060000
END:STANDARD
BEGIN:DAYLIGHT
TZOFFSETFROM:-0500
TZOFFSETTO:-0400
TZNAME:EDT
DTSTART:20270314T070000
END:DAYLIGHT
BEGIN:STANDARD
TZOFFSETFROM:-0400
TZOFFSETTO:-0500
TZNAME:EST
DTSTART:20271107T060000
END:STANDARD
END:VTIMEZONE
BEGIN:VEVENT
DTSTART;TZID=America/New_York:20260424T093000
DTEND;TZID=America/New_York:20260426T123000
DTSTAMP:20260424T013538
CREATED:20251113T144317Z
LAST-MODIFIED:20251118T142712Z
UID:3107-1777023000-1777206600@rishiprograms.org
SUMMARY:2026 Tending the Flame Retreat & Training Workshop
DESCRIPTION:A 2 ½ day retreat and training workshop in personal and professional resilience for clinicians and healthcare paraprofessionals. \nAre you seeking reflection and renewal in your professional and personal life? If so\, please join us for an incredibly enriching experience! This retreat and training workshop will draw on the award-winning discovery model methods of the Remen Institute for the Study of Health and Illness (RISHI)\, offering nourishment and self-care for healthcare professionals. In community\, we will explore the meaning of our work and create opportunities for healing in this challenging time in healthcare. \nLed by Evangeline Andarsio\, MD\, RISHI Director to: \n\nAwaken the experience of respite and peace.\nExplore using reflection\, experiential exercises\, symbolism\, narrative\, journaling\, generous listening\, and small group sharing.\nEnhance compassion and resiliency using self-care tools.\nExperience the compassionate support of a professional community.\nLearn to bring a Finding Meaning Group to your healthcare community.\n\nThe epidemic of burnout and compassion fatigue during the professional life cycle of clinicians and healthcare paraprofessionals has stimulated the development of new approaches to prevention and recovery. Research suggests that the capacity to find personal meaning in your work is highly correlated with professional and personal resiliency and the experience of deep satisfaction in service work. Most clinicians and healthcare workers live far more meaningful lives than they realize. Experiencing the meaning already present in our daily work does not require us to change what we do but to see familiar things in new ways. Often it requires us to transcend our training and bring the perspective of the heart into the center of our professional work. \nThe award-winning discovery model methods of RISHI’s educational programs offer participants the opportunity to discover the power of meaning to transform their experience of their daily work\, revitalize their commitment and reinvigorate their service intention. \nUsing reflection\, poetry\, symbolism\, narrative\, art\, journaling\, generous listening\, and small group sharing we will enable workshop participants to revisit their original calling\, discover the personal meaning hidden in their daily routine\, and learn self-help methods to reclaim and sustain their passion for their profession. Come prepared to remember why you chose your work and recover the deep satisfaction of being in healthcare. \nRISHI‘s Tending the Flame retreat and training workshop enables participants to develop an authentic and supportive professional community\, take personal ownership of the meaning and values which are inherent in the lineage and practice of each health profession\, refresh their calling and service intention and learn effective self-care tools to enhance resiliency in their professional and personal lives. \nCME CATEGORY 1 approval: information forthcoming. \nWho Should Apply \n\nResidency directors or medical educators in search of well-tested innovative self-care methods for enhancing professional and personal resiliency.\nEducators spearheading Physician and/or Nurse Well-Being Programs\, or Well-Being Committees in hospitals\, healthcare systems\, group practices\, or other healthcare organizations and educators in Veterinarian Well-Being Programs or Committees in veterinary health systems.\nResidents or Fellows involved in Resident or Fellow Well-Being Programs or Clinician Well-Being Committees.\nClinicians and healthcare workers looking for a retreat experience in community to bolster resiliency and well-being should only register for the retreat experience\n\nHow to Apply \nSubmit your application online by Monday\, March 23rd\, 2026. All applications will be reviewed\, and you will be notified of your acceptance to the workshop within two weeks of submitting your application. \nComplete the application using the link below: \n2026 Tending the Flame Retreat & Training Workshop Application \nFinancial Information \nRegistration Fee: Due within 30 days of the acceptance of application. \n\n$1500 (Friday & Saturday Retreat Only)\n$1800 (Friday\, Saturday and Sunday\, Retreat & Training Workshop)\n\nGraduate Program Learners: Due within 30 days of the acceptance of application. \n\n$975 (Friday & Saturday Retreat Only)\n\nNote: Registration fee includes breakfast and lunch\, daily.  Lodging and evening meals are the responsibility of the participants.  \nCancellation & Refund Policy:  \n\n60 days or greater to the first day of Workshop = full registration fee refunded\, less $100 administrative fee.\n59 – 31 days or greater to the first day of Workshop = 50% of registration fee refunded\, less $100 administrative fee.\n30 days or less prior to the first day of Workshop = forfeit of full registration fee (100%).\n\nNote: Registration fee includes breakfast and lunch\, daily.  Lodging and evening meals are the responsibility of the participants. \nFor questions regarding registration\, payments\, travel\, hotel or other customer service issues\, contact Becky Johnson at 326-222-3579 or rjohnson@purehealthcare.org. \nFaculty \nEvangeline C. Andarsio\, MD\, Director of RISHI\, Clinical Professor of OB-GYN at Wright State University Boonshoft School of Medicine\, Director of the Global Healer’s Art curriculum for medical and veterinary medicine students. \nDonald Friedman\, MD\, facilitates Case Based Learning classes for 1st and 2nd year medical students and has been a facilitator for The Healer’s Art for 18 years and former Course Director for 5 years at the Sidney Kimmel Medical College at Thomas Jefferson University. \nPlease Note: Professional video recordings of Rachel Naomi Remen\, MD\, Founding Director of the Remen Institute for the Study of Health and Illness and the Healer’s Art\, will be shared with the participants offering her teachings on various topics.  Dr. Remen is the bestselling author of Kitchen Table Wisdom and My Grandfather’s Blessings. \nCME Accreditation \nDISCLOSURE POLICY: The Remen Institute for the Study of Health and Illness at Pure Healthcare® has implemented a process where everyone who is in a position to influence the content of the educational activity must disclose to learners any relevant financial relationship. Having an interest or affiliation with a corporate organization does not necessarily prevent the speaker from participating in the proposed CME activity. It is a policy of the CME Committee to resolve any conflicts of interest prior to the presentation. \nDISCLOSURE INFORMATION: The speakers\, presenters and planning committee members for this educational activity disclose no relevant financial relationship with commercial interests. \nCME CATEGORY 1 APPROVAL: Information Forthcoming. \nContinuing Education for Nurses \nBRN CE APPROVAL: Provider approved by the California Board of Registered Nursing\, Provider Number CEP 10064\, Contact Hours Forthcoming. \nCalifornia BRN continuing education credits are accepted by most state nursing boards; please verify with your state agency if you are outside of California. \nDisabilities Statement \nAs an organization accredited for continuing medical education (CME)\, Wright State University Boonshoft School of Medicine fully complies with the legal requirements of the Americans with Disabilities Act rules and regulations. For participants in need of accommodation\, written requests should be submitted at least one month in advance. \nHotel\, Travel\, and Meal Information \nLodging: The retreat will be held at the Home2 Suites by Hilton Dayton-Centerville. The address is 5161 Cornerstone North Boulevard\, Centerville\, Ohio 45440. \nWe highly recommend staying at Home2 Suites by Hilton Dayton-Centerville as they provide an exceptional room rate on beautiful and peaceful grounds. The event venue is onsite and is easily accessible from all areas of the property. \nRooms booked no later than Tuesday\, March 24\, 2026\, are guaranteed the RISHI block room rate of $169 +tax per night.  \nAfter your application has been accepted you will receive a link for reservations with the RISHI rates. \nAdditional lodging: We will provide alternative accommodation near the event upon request. \nTravel: Participants fly in from all over the country to attend RISHI Retreats & Workshops.  If you are arriving by plane and will be renting a car or using a taxi service or Uber\, consider the following airport: \nDayton International Airport \n25.1 miles from Dayton Internation Airport to Retreat and Training Workshop location at Home2 Suites\, 5161 Cornerstone North Boulevard\, Centerville\, Ohio 45440. \nFor your information when scheduling your fights if needed:  \nRETREAT ONLY – begins Friday\, April 24th at 9:30am and ends on Saturday\, April 25th at 5:30 pm. \nRETREAT & TRAINING WORKSHOP – begin April 24th at 9:30am and end on Sunday\, April 26th at 12:30 pm. \nMeals: Breakfast and lunch are provided as part of registration fee. \n\nEvening meals and lodging are the responsibility of the participants.\n\nNote: If you have a special diet or dietary need\, please make sure you include your need on the application. \nQuestions? \nFor more course information surrounding physicians and residents\, nurses and nurse residents please contact RISHI’s Director\, Evangeline C. Andarsio\, M.D.\, at eandarsio@purehealthcare.org or 937.245.7450 ext. 2. \nFor questions regarding registration\, payments\, travel\, hotel or other customer service issues\, contact Becky Johnson at 326-222-3579 or rjohnson@purehealthcare.org. \n 
URL:https://rishiprograms.org/event/2026-tending-the-flame-retreat-training-workshop/
LOCATION:Home2 Suites Dayton-Centerville\, 5161 Cornerstone Blvd North\, Centerville\, OH\, 45440\, United States
END:VEVENT
END:VCALENDAR